BEGIN:VCALENDAR
VERSION:2.0
PRODID:-//嘉義縣親子旅 - ECPv6.3.7//NONSGML v1.0//EN
CALSCALE:GREGORIAN
METHOD:PUBLISH
X-WR-CALNAME:嘉義縣親子旅
X-ORIGINAL-URL:http://54.64.38.96
X-WR-CALDESC:嘉義縣親子旅的活動
REFRESH-INTERVAL;VALUE=DURATION:PT1H
X-Robots-Tag:noindex
X-PUBLISHED-TTL:PT1H
BEGIN:VTIMEZONE
TZID:Asia/Taipei
BEGIN:STANDARD
TZOFFSETFROM:+0800
TZOFFSETTO:+0800
TZNAME:CST
DTSTART:20240101T000000
END:STANDARD
END:VTIMEZONE
BEGIN:VEVENT
DTSTART;TZID=Asia/Taipei:20240624T080000
DTEND;TZID=Asia/Taipei:20261231T170000
DTSTAMP:20260420T183118
CREATED:20240619T035053Z
LAST-MODIFIED:20240619T040726Z
UID:8889-1719216000-1798736400@54.64.38.96
SUMMARY:【7歲以上】新港｜草繩製作｜7天前預約｜10人成行
DESCRIPTION:致力於推廣交趾陶及剪黏工藝，不但可以看見工藝製作現場，還能親自體驗diy樂趣，或是享用午餐、下午茶～ ★馬賽克拼貼DIY★14X14的方格裡，如拼圖式的創作體驗 						\n				\n				\n				\n					\n			\n							\n					\n						\n		\n				\n				\n				\n				\n			\n		\n		收費方式	\n			\n				\n				\n				\n			\n\n\n	\n		\n			\n				\n					\n						每位\n						\n						\n							$250\n						\n					\n					\n					\n														\n															60分鐘\n															5歲以下需要家長陪同\n															教學語言：國語、台語、英語\n														\n												\n											\n				\n			\n		\n\n\n		\n				\n				\n				\n			\n		\n		立即訂購	\n			\n				\n				\n				\n			\n\n\n	\n		\n			\n				\n					\n						KKDay優惠方案【嘉義好玩卡】\n						\n						\n							$100\n						\n					\n					\n					\n														\n															在板陶窯工藝園區您只須放鬆心情，欣賞交趾陶剪黏的藝術、觀賞嘉南平原的景色，心動不如行動，與親朋好友來一趟藝術的旅行，一起接受藝術薰陶吧!\n														\n												\n													選擇方案\n											\n				\n			\n		\n\n\n		\n				\n				\n				\n					\n			\n							\n					\n						\n		\n				\n				\n				\n				\n					\n					\n				\n				\n				\n				\n					\n			\n		\n				\n				\n				\n				\n					\n			\n							\n					\n						\n		\n				\n				\n				\n				\n			\n		\n							\n							\n							\n					\n		\n							\n							\n							\n					\n		\n							\n							\n							\n					\n		\n							\n							\n							\n					\n		\n							\n							\n							\n					\n		\n							\n							\n							\n					\n		\n							\n							\n							\n					\n		\n							\n							\n							\n					\n\n\n		\n				\n				\n				\n					\n			\n		\n				\n				\n		\n					\n				\n				\n					\n			\n							\n					\n						\n		\n				\n				\n				\n				\n			\n		\n		營業資訊	\n			\n				\n				\n				\n					\n							\n											\n													\n										平日營業時間：09:00 - 17:30 \n									\n								\n											\n													\n										假日營業時間：09:00 - 17:30\n									\n								\n											\n\n												\n													\n										適合年齡｜全年齡\n											\n									\n								\n											\n													\n										無障礙坡道、無障礙廁所\n									\n								\n											\n													\n										親子友善空間｜哺乳室、無障礙親子廁所\n									\n								\n											\n													\n										兒童遊戲區\n									\n						\n				\n				\n				\n				\n					\n			\n							\n					\n						\n		\n				\n				\n				\n				\n			\n		\n		門票資訊	\n			\n				\n				\n				\n			\n\n\n	\n		\n			\n				\n					\n						優惠進場\n						\n						\n							免費\n						\n					\n					\n					\n														\n															120公分以下兒童免費\n															持有身心障礙手冊者免費\n															新港鄉鄉民免費\n														\n												\n											\n				\n			\n		\n		\n			\n				\n					\n						優惠票\n						\n						\n							$50\n						\n					\n					\n					\n														\n															65歲以上長者\n														\n												\n											\n				\n			\n		\n		\n			\n				\n					\n						一般票\n						\n						\n							$100\n						\n					\n					\n					\n														\n															門票全額抵消費，$50元抵餐飲、$50元抵工藝品或DIY體驗\n														\n												\n											\n				\n			\n		\n\n\n		\n				\n				\n				\n					\n			\n							\n					\n						\n		\n				\n				\n				\n				\n			\n		\n		親子空間	\n			\n				\n				\n				\n					\n							\n											\n													\n										免費設施：球池、溜滑梯、彈跳床、人工草皮、跳跳馬、韻律球、盪鞦韆、小鋼琴、小鼓架、白沙坑\n									\n								\n											\n													\n										動物車 $30\n									\n								\n											\n													\n										遊園小火車 $50
URL:http://54.64.38.96/event/7%e6%ad%b2%e4%bb%a5%e4%b8%8a%e6%96%b0%e6%b8%af%e8%8d%89%e7%b9%a9%e8%a3%bd%e4%bd%9c7%e5%a4%a9%e5%89%8d%e9%a0%90%e7%b4%8410%e4%ba%ba%e6%88%90%e8%a1%8c/
LOCATION:頂菜園\, 嘉義縣新港鄉頂菜園9-9號
CATEGORIES:5-農事體驗,新港鄉
ATTACH;FMTTYPE=image/jpeg:http://54.64.38.96/wp-content/uploads/2024/06/草繩製作-3.jpg
END:VEVENT
BEGIN:VEVENT
DTSTART;TZID=Asia/Taipei:20240624T080000
DTEND;TZID=Asia/Taipei:20261231T170000
DTSTAMP:20260420T183118
CREATED:20240619T034516Z
LAST-MODIFIED:20240620T074505Z
UID:8888-1719216000-1798736400@54.64.38.96
SUMMARY:【3歲以上】新港｜斗笠彩繪｜7天前預約｜10人成行
DESCRIPTION:致力於推廣交趾陶及剪黏工藝，不但可以看見工藝製作現場，還能親自體驗diy樂趣，或是享用午餐、下午茶～ ★馬賽克拼貼DIY★14X14的方格裡，如拼圖式的創作體驗 						\n				\n				\n				\n					\n			\n							\n					\n						\n		\n				\n				\n				\n				\n			\n		\n		收費方式	\n			\n				\n				\n				\n			\n\n\n	\n		\n			\n				\n					\n						每位\n						\n						\n							$250\n						\n					\n					\n					\n														\n															60分鐘\n															5歲以下需要家長陪同\n															教學語言：國語、台語、英語\n														\n												\n											\n				\n			\n		\n\n\n		\n				\n				\n				\n			\n		\n		立即訂購	\n			\n				\n				\n				\n			\n\n\n	\n		\n			\n				\n					\n						KKDay優惠方案【嘉義好玩卡】\n						\n						\n							$100\n						\n					\n					\n					\n														\n															在板陶窯工藝園區您只須放鬆心情，欣賞交趾陶剪黏的藝術、觀賞嘉南平原的景色，心動不如行動，與親朋好友來一趟藝術的旅行，一起接受藝術薰陶吧!\n														\n												\n													選擇方案\n											\n				\n			\n		\n\n\n		\n				\n				\n				\n					\n			\n							\n					\n						\n		\n				\n				\n				\n				\n					\n					\n				\n				\n				\n				\n					\n			\n		\n				\n				\n				\n				\n					\n			\n							\n					\n						\n		\n				\n				\n				\n				\n			\n		\n							\n							\n							\n					\n		\n							\n							\n							\n					\n		\n							\n							\n							\n					\n		\n							\n							\n							\n					\n		\n							\n							\n							\n					\n		\n							\n							\n							\n					\n		\n							\n							\n							\n					\n		\n							\n							\n							\n					\n\n\n		\n				\n				\n				\n					\n			\n		\n				\n				\n		\n					\n				\n				\n					\n			\n							\n					\n						\n		\n				\n				\n				\n				\n			\n		\n		營業資訊	\n			\n				\n				\n				\n					\n							\n											\n													\n										平日營業時間：09:00 - 17:30 \n									\n								\n											\n													\n										假日營業時間：09:00 - 17:30\n									\n								\n											\n\n												\n													\n										適合年齡｜全年齡\n											\n									\n								\n											\n													\n										無障礙坡道、無障礙廁所\n									\n								\n											\n													\n										親子友善空間｜哺乳室、無障礙親子廁所\n									\n								\n											\n													\n										兒童遊戲區\n									\n						\n				\n				\n				\n				\n					\n			\n							\n					\n						\n		\n				\n				\n				\n				\n			\n		\n		門票資訊	\n			\n				\n				\n				\n			\n\n\n	\n		\n			\n				\n					\n						優惠進場\n						\n						\n							免費\n						\n					\n					\n					\n														\n															120公分以下兒童免費\n															持有身心障礙手冊者免費\n															新港鄉鄉民免費\n														\n												\n											\n				\n			\n		\n		\n			\n				\n					\n						優惠票\n						\n						\n							$50\n						\n					\n					\n					\n														\n															65歲以上長者\n														\n												\n											\n				\n			\n		\n		\n			\n				\n					\n						一般票\n						\n						\n							$100\n						\n					\n					\n					\n														\n															門票全額抵消費，$50元抵餐飲、$50元抵工藝品或DIY體驗\n														\n												\n											\n				\n			\n		\n\n\n		\n				\n				\n				\n					\n			\n							\n					\n						\n		\n				\n				\n				\n				\n			\n		\n		親子空間	\n			\n				\n				\n				\n					\n							\n											\n													\n										免費設施：球池、溜滑梯、彈跳床、人工草皮、跳跳馬、韻律球、盪鞦韆、小鋼琴、小鼓架、白沙坑\n									\n								\n											\n													\n										動物車 $30\n									\n								\n											\n													\n										遊園小火車 $50
URL:http://54.64.38.96/event/3%e6%ad%b2%e4%bb%a5%e4%b8%8a%e6%96%b0%e6%b8%af%e6%96%97%e7%ac%a0%e5%bd%a9%e7%b9%aa7%e5%a4%a9%e5%89%8d%e9%a0%90%e7%b4%8410%e4%ba%ba%e6%88%90%e8%a1%8c/
LOCATION:頂菜園\, 嘉義縣新港鄉頂菜園9-9號
CATEGORIES:1-藝術創作,新港鄉
ATTACH;FMTTYPE=image/jpeg:http://54.64.38.96/wp-content/uploads/2024/06/斗笠彩繪-2.jpg
END:VEVENT
BEGIN:VEVENT
DTSTART;TZID=Asia/Taipei:20240624T080000
DTEND;TZID=Asia/Taipei:20261231T170000
DTSTAMP:20260420T183119
CREATED:20240523T025412Z
LAST-MODIFIED:20240614T114721Z
UID:4772-1719216000-1798736400@54.64.38.96
SUMMARY:【全齡】新港｜園區導覽x採果體驗xDIY雞蛋料理｜7日前電話預約
DESCRIPTION:致力於推廣交趾陶及剪黏工藝，不但可以看見工藝製作現場，還能親自體驗diy樂趣，或是享用午餐、下午茶～ ★馬賽克拼貼DIY★14X14的方格裡，如拼圖式的創作體驗 						\n				\n				\n				\n					\n			\n							\n					\n						\n		\n				\n				\n				\n				\n			\n		\n		收費方式	\n			\n				\n				\n				\n			\n\n\n	\n		\n			\n				\n					\n						每位\n						\n						\n							$250\n						\n					\n					\n					\n														\n															60分鐘\n															5歲以下需要家長陪同\n															教學語言：國語、台語、英語\n														\n												\n											\n				\n			\n		\n\n\n		\n				\n				\n				\n			\n		\n		立即訂購	\n			\n				\n				\n				\n			\n\n\n	\n		\n			\n				\n					\n						KKDay優惠方案【嘉義好玩卡】\n						\n						\n							$100\n						\n					\n					\n					\n														\n															在板陶窯工藝園區您只須放鬆心情，欣賞交趾陶剪黏的藝術、觀賞嘉南平原的景色，心動不如行動，與親朋好友來一趟藝術的旅行，一起接受藝術薰陶吧!\n														\n												\n													選擇方案\n											\n				\n			\n		\n\n\n		\n				\n				\n				\n					\n			\n							\n					\n						\n		\n				\n				\n				\n				\n					\n					\n				\n				\n				\n				\n					\n			\n		\n				\n				\n				\n				\n					\n			\n							\n					\n						\n		\n				\n				\n				\n				\n			\n		\n							\n							\n							\n					\n		\n							\n							\n							\n					\n		\n							\n							\n							\n					\n		\n							\n							\n							\n					\n		\n							\n							\n							\n					\n		\n							\n							\n							\n					\n		\n							\n							\n							\n					\n		\n							\n							\n							\n					\n\n\n		\n				\n				\n				\n					\n			\n		\n				\n				\n		\n					\n				\n				\n					\n			\n							\n					\n						\n		\n				\n				\n				\n				\n			\n		\n		營業資訊	\n			\n				\n				\n				\n					\n							\n											\n													\n										平日營業時間：09:00 - 17:30 \n									\n								\n											\n													\n										假日營業時間：09:00 - 17:30\n									\n								\n											\n\n												\n													\n										適合年齡｜全年齡\n											\n									\n								\n											\n													\n										無障礙坡道、無障礙廁所\n									\n								\n											\n													\n										親子友善空間｜哺乳室、無障礙親子廁所\n									\n								\n											\n													\n										兒童遊戲區\n									\n						\n				\n				\n				\n				\n					\n			\n							\n					\n						\n		\n				\n				\n				\n				\n			\n		\n		門票資訊	\n			\n				\n				\n				\n			\n\n\n	\n		\n			\n				\n					\n						優惠進場\n						\n						\n							免費\n						\n					\n					\n					\n														\n															120公分以下兒童免費\n															持有身心障礙手冊者免費\n															新港鄉鄉民免費\n														\n												\n											\n				\n			\n		\n		\n			\n				\n					\n						優惠票\n						\n						\n							$50\n						\n					\n					\n					\n														\n															65歲以上長者\n														\n												\n											\n				\n			\n		\n		\n			\n				\n					\n						一般票\n						\n						\n							$100\n						\n					\n					\n					\n														\n															門票全額抵消費，$50元抵餐飲、$50元抵工藝品或DIY體驗\n														\n												\n											\n				\n			\n		\n\n\n		\n				\n				\n				\n					\n			\n							\n					\n						\n		\n				\n				\n				\n				\n			\n		\n		親子空間	\n			\n				\n				\n				\n					\n							\n											\n													\n										免費設施：球池、溜滑梯、彈跳床、人工草皮、跳跳馬、韻律球、盪鞦韆、小鋼琴、小鼓架、白沙坑\n									\n								\n											\n													\n										動物車 $30\n									\n								\n											\n													\n										遊園小火車 $50
URL:http://54.64.38.96/event/%e5%85%a8%e9%bd%a1%e6%96%b0%e6%b8%af%e5%9c%92%e5%8d%80%e5%b0%8e%e8%a6%bdx%e6%8e%a1%e6%9e%9c%e9%ab%94%e9%a9%97xdiy%e9%9b%9e%e8%9b%8b%e6%96%99%e7%90%867%e6%97%a5%e5%89%8d%e9%9b%bb%e8%a9%b1%e9%a0%90/
LOCATION:良雲有雞自然農場\, 嘉義縣新港鄉新中路261號
CATEGORIES:5-農事體驗,新港鄉
ATTACH;FMTTYPE=image/jpeg:http://54.64.38.96/wp-content/uploads/2024/05/良雲有雞自然農場-2.jpg
END:VEVENT
BEGIN:VEVENT
DTSTART;TZID=Asia/Taipei:20240624T080000
DTEND;TZID=Asia/Taipei:20261231T170000
DTSTAMP:20260420T183119
CREATED:20240523T015150Z
LAST-MODIFIED:20241121T091936Z
UID:4770-1719216000-1798736400@54.64.38.96
SUMMARY:【7歲以上】新港｜幸福香伴x香包調香體驗｜20人以上開班｜3日前電話預約
DESCRIPTION:致力於推廣交趾陶及剪黏工藝，不但可以看見工藝製作現場，還能親自體驗diy樂趣，或是享用午餐、下午茶～ ★馬賽克拼貼DIY★14X14的方格裡，如拼圖式的創作體驗 						\n				\n				\n				\n					\n			\n							\n					\n						\n		\n				\n				\n				\n				\n			\n		\n		收費方式	\n			\n				\n				\n				\n			\n\n\n	\n		\n			\n				\n					\n						每位\n						\n						\n							$250\n						\n					\n					\n					\n														\n															60分鐘\n															5歲以下需要家長陪同\n															教學語言：國語、台語、英語\n														\n												\n											\n				\n			\n		\n\n\n		\n				\n				\n				\n			\n		\n		立即訂購	\n			\n				\n				\n				\n			\n\n\n	\n		\n			\n				\n					\n						KKDay優惠方案【嘉義好玩卡】\n						\n						\n							$100\n						\n					\n					\n					\n														\n															在板陶窯工藝園區您只須放鬆心情，欣賞交趾陶剪黏的藝術、觀賞嘉南平原的景色，心動不如行動，與親朋好友來一趟藝術的旅行，一起接受藝術薰陶吧!\n														\n												\n													選擇方案\n											\n				\n			\n		\n\n\n		\n				\n				\n				\n					\n			\n							\n					\n						\n		\n				\n				\n				\n				\n					\n					\n				\n				\n				\n				\n					\n			\n		\n				\n				\n				\n				\n					\n			\n							\n					\n						\n		\n				\n				\n				\n				\n			\n		\n							\n							\n							\n					\n		\n							\n							\n							\n					\n		\n							\n							\n							\n					\n		\n							\n							\n							\n					\n		\n							\n							\n							\n					\n		\n							\n							\n							\n					\n		\n							\n							\n							\n					\n		\n							\n							\n							\n					\n\n\n		\n				\n				\n				\n					\n			\n		\n				\n				\n		\n					\n				\n				\n					\n			\n							\n					\n						\n		\n				\n				\n				\n				\n			\n		\n		營業資訊	\n			\n				\n				\n				\n					\n							\n											\n													\n										平日營業時間：09:00 - 17:30 \n									\n								\n											\n													\n										假日營業時間：09:00 - 17:30\n									\n								\n											\n\n												\n													\n										適合年齡｜全年齡\n											\n									\n								\n											\n													\n										無障礙坡道、無障礙廁所\n									\n								\n											\n													\n										親子友善空間｜哺乳室、無障礙親子廁所\n									\n								\n											\n													\n										兒童遊戲區\n									\n						\n				\n				\n				\n				\n					\n			\n							\n					\n						\n		\n				\n				\n				\n				\n			\n		\n		門票資訊	\n			\n				\n				\n				\n			\n\n\n	\n		\n			\n				\n					\n						優惠進場\n						\n						\n							免費\n						\n					\n					\n					\n														\n															120公分以下兒童免費\n															持有身心障礙手冊者免費\n															新港鄉鄉民免費\n														\n												\n											\n				\n			\n		\n		\n			\n				\n					\n						優惠票\n						\n						\n							$50\n						\n					\n					\n					\n														\n															65歲以上長者\n														\n												\n											\n				\n			\n		\n		\n			\n				\n					\n						一般票\n						\n						\n							$100\n						\n					\n					\n					\n														\n															門票全額抵消費，$50元抵餐飲、$50元抵工藝品或DIY體驗\n														\n												\n											\n				\n			\n		\n\n\n		\n				\n				\n				\n					\n			\n							\n					\n						\n		\n				\n				\n				\n				\n			\n		\n		親子空間	\n			\n				\n				\n				\n					\n							\n											\n													\n										免費設施：球池、溜滑梯、彈跳床、人工草皮、跳跳馬、韻律球、盪鞦韆、小鋼琴、小鼓架、白沙坑\n									\n								\n											\n													\n										動物車 $30\n									\n								\n											\n													\n										遊園小火車 $50
URL:http://54.64.38.96/event/7%e6%ad%b2%e4%bb%a5%e4%b8%8a%e6%96%b0%e6%b8%af%e5%b9%b8%e7%a6%8f%e9%a6%99%e4%bc%b4x%e9%a6%99%e5%8c%85%e8%aa%bf%e9%a6%99%e9%ab%94%e9%a9%9720%e4%ba%ba%e4%bb%a5%e4%b8%8a%e9%96%8b%e7%8f%ad3%e6%97%a5/
LOCATION:新港香藝文化園區\, 嘉義縣新港鄉菜公村23-6號
CATEGORIES:7-五感體驗,新港鄉
ATTACH;FMTTYPE=image/jpeg:http://54.64.38.96/wp-content/uploads/2024/05/香包調香體驗-5-1.jpg
END:VEVENT
BEGIN:VEVENT
DTSTART;TZID=Asia/Taipei:20240624T080000
DTEND;TZID=Asia/Taipei:20261231T170000
DTSTAMP:20260420T183119
CREATED:20240522T092317Z
LAST-MODIFIED:20240621T035737Z
UID:4820-1719216000-1798736400@54.64.38.96
SUMMARY:【3歲以上】新港｜版畫製作體驗｜隨到隨作
DESCRIPTION:致力於推廣交趾陶及剪黏工藝，不但可以看見工藝製作現場，還能親自體驗diy樂趣，或是享用午餐、下午茶～ ★馬賽克拼貼DIY★14X14的方格裡，如拼圖式的創作體驗 						\n				\n				\n				\n					\n			\n							\n					\n						\n		\n				\n				\n				\n				\n			\n		\n		收費方式	\n			\n				\n				\n				\n			\n\n\n	\n		\n			\n				\n					\n						每位\n						\n						\n							$250\n						\n					\n					\n					\n														\n															60分鐘\n															5歲以下需要家長陪同\n															教學語言：國語、台語、英語\n														\n												\n											\n				\n			\n		\n\n\n		\n				\n				\n				\n			\n		\n		立即訂購	\n			\n				\n				\n				\n			\n\n\n	\n		\n			\n				\n					\n						KKDay優惠方案【嘉義好玩卡】\n						\n						\n							$100\n						\n					\n					\n					\n														\n															在板陶窯工藝園區您只須放鬆心情，欣賞交趾陶剪黏的藝術、觀賞嘉南平原的景色，心動不如行動，與親朋好友來一趟藝術的旅行，一起接受藝術薰陶吧!\n														\n												\n													選擇方案\n											\n				\n			\n		\n\n\n		\n				\n				\n				\n					\n			\n							\n					\n						\n		\n				\n				\n				\n				\n					\n					\n				\n				\n				\n				\n					\n			\n		\n				\n				\n				\n				\n					\n			\n							\n					\n						\n		\n				\n				\n				\n				\n			\n		\n							\n							\n							\n					\n		\n							\n							\n							\n					\n		\n							\n							\n							\n					\n		\n							\n							\n							\n					\n		\n							\n							\n							\n					\n		\n							\n							\n							\n					\n		\n							\n							\n							\n					\n		\n							\n							\n							\n					\n\n\n		\n				\n				\n				\n					\n			\n		\n				\n				\n		\n					\n				\n				\n					\n			\n							\n					\n						\n		\n				\n				\n				\n				\n			\n		\n		營業資訊	\n			\n				\n				\n				\n					\n							\n											\n													\n										平日營業時間：09:00 - 17:30 \n									\n								\n											\n													\n										假日營業時間：09:00 - 17:30\n									\n								\n											\n\n												\n													\n										適合年齡｜全年齡\n											\n									\n								\n											\n													\n										無障礙坡道、無障礙廁所\n									\n								\n											\n													\n										親子友善空間｜哺乳室、無障礙親子廁所\n									\n								\n											\n													\n										兒童遊戲區\n									\n						\n				\n				\n				\n				\n					\n			\n							\n					\n						\n		\n				\n				\n				\n				\n			\n		\n		門票資訊	\n			\n				\n				\n				\n			\n\n\n	\n		\n			\n				\n					\n						優惠進場\n						\n						\n							免費\n						\n					\n					\n					\n														\n															120公分以下兒童免費\n															持有身心障礙手冊者免費\n															新港鄉鄉民免費\n														\n												\n											\n				\n			\n		\n		\n			\n				\n					\n						優惠票\n						\n						\n							$50\n						\n					\n					\n					\n														\n															65歲以上長者\n														\n												\n											\n				\n			\n		\n		\n			\n				\n					\n						一般票\n						\n						\n							$100\n						\n					\n					\n					\n														\n															門票全額抵消費，$50元抵餐飲、$50元抵工藝品或DIY體驗\n														\n												\n											\n				\n			\n		\n\n\n		\n				\n				\n				\n					\n			\n							\n					\n						\n		\n				\n				\n				\n				\n			\n		\n		親子空間	\n			\n				\n				\n				\n					\n							\n											\n													\n										免費設施：球池、溜滑梯、彈跳床、人工草皮、跳跳馬、韻律球、盪鞦韆、小鋼琴、小鼓架、白沙坑\n									\n								\n											\n													\n										動物車 $30\n									\n								\n											\n													\n										遊園小火車 $50
URL:http://54.64.38.96/event/3%e6%ad%b2%e4%bb%a5%e4%b8%8a%e6%96%b0%e6%b8%af%e7%89%88%e7%95%ab%e8%a3%bd%e4%bd%9c%e9%ab%94%e9%a9%97%e9%9a%a8%e5%88%b0%e9%9a%a8%e4%bd%9c/
LOCATION:舊河道文史工作室\, 嘉義縣新港鄉板頭村1鄰1號之5
CATEGORIES:1-藝術創作,新港鄉
ATTACH;FMTTYPE=image/jpeg:http://54.64.38.96/wp-content/uploads/2024/05/版畫製作-1_0.jpg
END:VEVENT
BEGIN:VEVENT
DTSTART;TZID=Asia/Taipei:20240523T093000
DTEND;TZID=Asia/Taipei:20261231T170000
DTSTAMP:20260420T183119
CREATED:20240522T082616Z
LAST-MODIFIED:20250505T034321Z
UID:4771-1716456600-1798736400@54.64.38.96
SUMMARY:【5歲以上】新港｜古蹟之美導覽體驗｜官網線上預約
DESCRIPTION:致力於推廣交趾陶及剪黏工藝，不但可以看見工藝製作現場，還能親自體驗diy樂趣，或是享用午餐、下午茶～ ★馬賽克拼貼DIY★14X14的方格裡，如拼圖式的創作體驗 						\n				\n				\n				\n					\n			\n							\n					\n						\n		\n				\n				\n				\n				\n			\n		\n		收費方式	\n			\n				\n				\n				\n			\n\n\n	\n		\n			\n				\n					\n						每位\n						\n						\n							$250\n						\n					\n					\n					\n														\n															60分鐘\n															5歲以下需要家長陪同\n															教學語言：國語、台語、英語\n														\n												\n											\n				\n			\n		\n\n\n		\n				\n				\n				\n			\n		\n		立即訂購	\n			\n				\n				\n				\n			\n\n\n	\n		\n			\n				\n					\n						KKDay優惠方案【嘉義好玩卡】\n						\n						\n							$100\n						\n					\n					\n					\n														\n															在板陶窯工藝園區您只須放鬆心情，欣賞交趾陶剪黏的藝術、觀賞嘉南平原的景色，心動不如行動，與親朋好友來一趟藝術的旅行，一起接受藝術薰陶吧!\n														\n												\n													選擇方案\n											\n				\n			\n		\n\n\n		\n				\n				\n				\n					\n			\n							\n					\n						\n		\n				\n				\n				\n				\n					\n					\n				\n				\n				\n				\n					\n			\n		\n				\n				\n				\n				\n					\n			\n							\n					\n						\n		\n				\n				\n				\n				\n			\n		\n							\n							\n							\n					\n		\n							\n							\n							\n					\n		\n							\n							\n							\n					\n		\n							\n							\n							\n					\n		\n							\n							\n							\n					\n		\n							\n							\n							\n					\n		\n							\n							\n							\n					\n		\n							\n							\n							\n					\n\n\n		\n				\n				\n				\n					\n			\n		\n				\n				\n		\n					\n				\n				\n					\n			\n							\n					\n						\n		\n				\n				\n				\n				\n			\n		\n		營業資訊	\n			\n				\n				\n				\n					\n							\n											\n													\n										平日營業時間：09:00 - 17:30 \n									\n								\n											\n													\n										假日營業時間：09:00 - 17:30\n									\n								\n											\n\n												\n													\n										適合年齡｜全年齡\n											\n									\n								\n											\n													\n										無障礙坡道、無障礙廁所\n									\n								\n											\n													\n										親子友善空間｜哺乳室、無障礙親子廁所\n									\n								\n											\n													\n										兒童遊戲區\n									\n						\n				\n				\n				\n				\n					\n			\n							\n					\n						\n		\n				\n				\n				\n				\n			\n		\n		門票資訊	\n			\n				\n				\n				\n			\n\n\n	\n		\n			\n				\n					\n						優惠進場\n						\n						\n							免費\n						\n					\n					\n					\n														\n															120公分以下兒童免費\n															持有身心障礙手冊者免費\n															新港鄉鄉民免費\n														\n												\n											\n				\n			\n		\n		\n			\n				\n					\n						優惠票\n						\n						\n							$50\n						\n					\n					\n					\n														\n															65歲以上長者\n														\n												\n											\n				\n			\n		\n		\n			\n				\n					\n						一般票\n						\n						\n							$100\n						\n					\n					\n					\n														\n															門票全額抵消費，$50元抵餐飲、$50元抵工藝品或DIY體驗\n														\n												\n											\n				\n			\n		\n\n\n		\n				\n				\n				\n					\n			\n							\n					\n						\n		\n				\n				\n				\n				\n			\n		\n		親子空間	\n			\n				\n				\n				\n					\n							\n											\n													\n										免費設施：球池、溜滑梯、彈跳床、人工草皮、跳跳馬、韻律球、盪鞦韆、小鋼琴、小鼓架、白沙坑\n									\n								\n											\n													\n										動物車 $30\n									\n								\n											\n													\n										遊園小火車 $50
URL:http://54.64.38.96/event/5%e6%ad%b2%e4%bb%a5%e4%b8%8a%e6%96%b0%e6%b8%af%e5%8f%a4%e8%b9%9f%e4%b9%8b%e7%be%8e%e5%b0%8e%e8%a6%bd%e9%ab%94%e9%a9%97%e5%ae%98%e7%b6%b2%e7%b7%9a%e4%b8%8a%e9%a0%90%e7%b4%84/
LOCATION:培桂堂\, 嘉義縣新港鄉大興路19號
CATEGORIES:7-五感體驗,新港鄉
ATTACH;FMTTYPE=image/jpeg:http://54.64.38.96/wp-content/uploads/2024/05/培桂堂-1.jpg
END:VEVENT
END:VCALENDAR