BEGIN:VCALENDAR
VERSION:2.0
PRODID:-//嘉義縣親子旅 - ECPv6.3.7//NONSGML v1.0//EN
CALSCALE:GREGORIAN
METHOD:PUBLISH
X-ORIGINAL-URL:http://54.64.38.96
X-WR-CALDESC:嘉義縣親子旅的活動
REFRESH-INTERVAL;VALUE=DURATION:PT1H
X-Robots-Tag:noindex
X-PUBLISHED-TTL:PT1H
BEGIN:VTIMEZONE
TZID:Asia/Taipei
BEGIN:STANDARD
TZOFFSETFROM:+0800
TZOFFSETTO:+0800
TZNAME:CST
DTSTART:20240101T000000
END:STANDARD
END:VTIMEZONE
BEGIN:VEVENT
DTSTART;TZID=Asia/Taipei:20250609T090000
DTEND;TZID=Asia/Taipei:20261231T170000
DTSTAMP:20260421T023811
CREATED:20250609T141759Z
LAST-MODIFIED:20250611T090018Z
UID:14281-1749459600-1798736400@54.64.38.96
SUMMARY:【全齡】東石｜鰲鼓濕地生態展示館｜免費解說服務&定時影片播放｜14日前預約︱5人以上、20人以下
DESCRIPTION:鰲鼓濕地生態展示館位於嘉義縣東石鄉，是認識鰲鼓濕地生態與候鳥資源的重要據點。館內透過多媒體互動裝置與地景展示，營造如繪本般的沉浸體驗，適合親子一同探索。館外緊鄰豐富濕地環境，全年可觀察多樣鳥類，尤其每年11月至翌年2月為最佳賞鳥季節。 ★免費解說服務&定時影片播放★館內設有豐富的鳥類生態展品與固定展場，結合互動設施，讓大小朋友輕鬆認識濕地鳥類的生活環境與生態特色。每日提供定時解說服務，每週六、日還有精彩的影片導覽，透過生動影片深入了解濕地生態，是全家同遊、親近自然的最佳選擇。 						\n				\n				\n				\n					\n			\n							\n					\n						\n		\n				\n				\n				\n				\n			\n		\n		收費方式	\n			\n				\n				\n				\n			\n\n\n	\n		\n			\n				\n					\n						每位\n						\n						\n							$0\n						\n					\n					\n					\n														\n															預約制\n															解說服務、團體影片播放需提前電話預約，需5人以上、20人以下\n															定時解說為每週六、日10:00、14:30\n														\n												\n											\n				\n			\n		\n\n\n		\n				\n				\n				\n					\n			\n							\n					\n						\n		\n				\n				\n				\n				\n			\n		\n							\n							\n							\n					\n		\n							\n							\n							\n					\n		\n							\n							\n							\n					\n		\n							\n							\n							\n					\n		\n							\n							\n							\n					\n		\n							\n							\n							\n					\n		\n							\n							\n							\n					\n\n\n		\n				\n				\n				\n					\n			\n		\n				\n				\n				\n				\n					\n			\n							\n					\n						\n		\n				\n				\n				\n				\n			\n		\n		營業資訊	\n			\n				\n				\n				\n					\n							\n											\n													\n										開館時間：9:00-16:30(星期二至星期日開館)\n									\n								\n											\n\n												\n													\n										適合年齡｜全年齡\n											\n									\n								\n											\n													\n										有電梯\n									\n								\n											\n													\n										親子友善空間｜飲水機(有提供熱水)\n									\n								\n											\n													\n										親子遊戲空間︱影片播放區、互動體驗區、木育玩具
URL:http://54.64.38.96/event/%e3%80%90%e5%85%a8%e9%bd%a1%e3%80%91%e6%9d%b1%e7%9f%b3%ef%bd%9c%e9%b0%b2%e9%bc%93%e6%bf%95%e5%9c%b0%e6%a3%ae%e6%9e%97%e5%9c%92%e5%8d%80-%e8%a7%80%e6%b5%b7%e6%a8%93%ef%bd%9c%e5%85%8d%e8%b2%bb%e8%a7%a3/
LOCATION:鰲鼓濕地森林園區-鰲鼓濕地生態展示館\, 嘉義縣東石鄉鰲鼓村四股54號
CATEGORIES:4-動物生態,東石鄉
ATTACH;FMTTYPE=image/jpeg:http://54.64.38.96/wp-content/uploads/2025/06/展示館設施使用1-scaled.jpg
END:VEVENT
BEGIN:VEVENT
DTSTART;TZID=Asia/Taipei:20250609T090000
DTEND;TZID=Asia/Taipei:20261231T170000
DTSTAMP:20260421T023811
CREATED:20250609T134548Z
LAST-MODIFIED:20250610T073509Z
UID:14274-1749459600-1798736400@54.64.38.96
SUMMARY:【3歲以上】東石｜鰲鼓濕地森林園區-觀海樓｜免費解說服務｜免預約
DESCRIPTION:鰲鼓濕地生態展示館位於嘉義縣東石鄉，是認識鰲鼓濕地生態與候鳥資源的重要據點。館內透過多媒體互動裝置與地景展示，營造如繪本般的沉浸體驗，適合親子一同探索。館外緊鄰豐富濕地環境，全年可觀察多樣鳥類，尤其每年11月至翌年2月為最佳賞鳥季節。 ★免費解說服務&定時影片播放★館內設有豐富的鳥類生態展品與固定展場，結合互動設施，讓大小朋友輕鬆認識濕地鳥類的生活環境與生態特色。每日提供定時解說服務，每週六、日還有精彩的影片導覽，透過生動影片深入了解濕地生態，是全家同遊、親近自然的最佳選擇。 						\n				\n				\n				\n					\n			\n							\n					\n						\n		\n				\n				\n				\n				\n			\n		\n		收費方式	\n			\n				\n				\n				\n			\n\n\n	\n		\n			\n				\n					\n						每位\n						\n						\n							$0\n						\n					\n					\n					\n														\n															預約制\n															解說服務、團體影片播放需提前電話預約，需5人以上、20人以下\n															定時解說為每週六、日10:00、14:30\n														\n												\n											\n				\n			\n		\n\n\n		\n				\n				\n				\n					\n			\n							\n					\n						\n		\n				\n				\n				\n				\n			\n		\n							\n							\n							\n					\n		\n							\n							\n							\n					\n		\n							\n							\n							\n					\n		\n							\n							\n							\n					\n		\n							\n							\n							\n					\n		\n							\n							\n							\n					\n		\n							\n							\n							\n					\n\n\n		\n				\n				\n				\n					\n			\n		\n				\n				\n				\n				\n					\n			\n							\n					\n						\n		\n				\n				\n				\n				\n			\n		\n		營業資訊	\n			\n				\n				\n				\n					\n							\n											\n													\n										開館時間：9:00-16:30(星期二至星期日開館)\n									\n								\n											\n\n												\n													\n										適合年齡｜全年齡\n											\n									\n								\n											\n													\n										有電梯\n									\n								\n											\n													\n										親子友善空間｜飲水機(有提供熱水)\n									\n								\n											\n													\n										親子遊戲空間︱影片播放區、互動體驗區、木育玩具
URL:http://54.64.38.96/event/%e3%80%903%e6%ad%b2%e4%bb%a5%e4%b8%8a%e3%80%91%e6%9d%b1%e7%9f%b3%ef%bd%9c%e9%b0%b2%e9%bc%93%e6%bf%95%e5%9c%b0%e6%a3%ae%e6%9e%97%e5%9c%92%e5%8d%80-%e8%a7%80%e6%b5%b7%e6%a8%93%ef%bd%9c%e5%85%8d%e8%b2%bb/
LOCATION:鰲鼓濕地森林園區-觀海樓\, 嘉義縣東石鄉鰲鼓村鰲鼓段468-8地號
CATEGORIES:4-動物生態,東石鄉
ATTACH;FMTTYPE=image/jpeg:http://54.64.38.96/wp-content/uploads/2025/06/觀海樓設施4-scaled.jpg
END:VEVENT
BEGIN:VEVENT
DTSTART;TZID=Asia/Taipei:20240715T103000
DTEND;TZID=Asia/Taipei:20261231T170000
DTSTAMP:20260421T023811
CREATED:20240715T010050Z
LAST-MODIFIED:20250611T105001Z
UID:11201-1721039400-1798736400@54.64.38.96
SUMMARY:【全齡】中埔｜日間生態探索x夜間觀察探索｜7日前預約
DESCRIPTION:鰲鼓濕地生態展示館位於嘉義縣東石鄉，是認識鰲鼓濕地生態與候鳥資源的重要據點。館內透過多媒體互動裝置與地景展示，營造如繪本般的沉浸體驗，適合親子一同探索。館外緊鄰豐富濕地環境，全年可觀察多樣鳥類，尤其每年11月至翌年2月為最佳賞鳥季節。 ★免費解說服務&定時影片播放★館內設有豐富的鳥類生態展品與固定展場，結合互動設施，讓大小朋友輕鬆認識濕地鳥類的生活環境與生態特色。每日提供定時解說服務，每週六、日還有精彩的影片導覽，透過生動影片深入了解濕地生態，是全家同遊、親近自然的最佳選擇。 						\n				\n				\n				\n					\n			\n							\n					\n						\n		\n				\n				\n				\n				\n			\n		\n		收費方式	\n			\n				\n				\n				\n			\n\n\n	\n		\n			\n				\n					\n						每位\n						\n						\n							$0\n						\n					\n					\n					\n														\n															預約制\n															解說服務、團體影片播放需提前電話預約，需5人以上、20人以下\n															定時解說為每週六、日10:00、14:30\n														\n												\n											\n				\n			\n		\n\n\n		\n				\n				\n				\n					\n			\n							\n					\n						\n		\n				\n				\n				\n				\n			\n		\n							\n							\n							\n					\n		\n							\n							\n							\n					\n		\n							\n							\n							\n					\n		\n							\n							\n							\n					\n		\n							\n							\n							\n					\n		\n							\n							\n							\n					\n		\n							\n							\n							\n					\n\n\n		\n				\n				\n				\n					\n			\n		\n				\n				\n				\n				\n					\n			\n							\n					\n						\n		\n				\n				\n				\n				\n			\n		\n		營業資訊	\n			\n				\n				\n				\n					\n							\n											\n													\n										開館時間：9:00-16:30(星期二至星期日開館)\n									\n								\n											\n\n												\n													\n										適合年齡｜全年齡\n											\n									\n								\n											\n													\n										有電梯\n									\n								\n											\n													\n										親子友善空間｜飲水機(有提供熱水)\n									\n								\n											\n													\n										親子遊戲空間︱影片播放區、互動體驗區、木育玩具
URL:http://54.64.38.96/event/%e3%80%90%e5%85%a8%e9%bd%a1%e3%80%91%e4%b8%ad%e5%9f%94%ef%bd%9c%e7%94%9f%e6%85%8b%e6%8e%a2%e7%b4%a2%ef%bd%9c%e9%a0%90%e7%b4%84%e5%88%b6/
LOCATION:築夢森居\, 嘉義縣中埔鄉深坑村內灣2號
CATEGORIES:4-動物生態,中埔鄉
ATTACH;FMTTYPE=image/jpeg:http://54.64.38.96/wp-content/uploads/2024/07/中埔。築夢森居。生態-1.jpg
END:VEVENT
BEGIN:VEVENT
DTSTART;TZID=Asia/Taipei:20240624T100000
DTEND;TZID=Asia/Taipei:20261231T170000
DTSTAMP:20260421T023811
CREATED:20240604T082110Z
LAST-MODIFIED:20241023T030535Z
UID:5482-1719223200-1798736400@54.64.38.96
SUMMARY:【全齡】太保｜咩咩上樹萌寵樂園x咩咩吃播秀x極限大擺盪｜購票入園
DESCRIPTION:鰲鼓濕地生態展示館位於嘉義縣東石鄉，是認識鰲鼓濕地生態與候鳥資源的重要據點。館內透過多媒體互動裝置與地景展示，營造如繪本般的沉浸體驗，適合親子一同探索。館外緊鄰豐富濕地環境，全年可觀察多樣鳥類，尤其每年11月至翌年2月為最佳賞鳥季節。 ★免費解說服務&定時影片播放★館內設有豐富的鳥類生態展品與固定展場，結合互動設施，讓大小朋友輕鬆認識濕地鳥類的生活環境與生態特色。每日提供定時解說服務，每週六、日還有精彩的影片導覽，透過生動影片深入了解濕地生態，是全家同遊、親近自然的最佳選擇。 						\n				\n				\n				\n					\n			\n							\n					\n						\n		\n				\n				\n				\n				\n			\n		\n		收費方式	\n			\n				\n				\n				\n			\n\n\n	\n		\n			\n				\n					\n						每位\n						\n						\n							$0\n						\n					\n					\n					\n														\n															預約制\n															解說服務、團體影片播放需提前電話預約，需5人以上、20人以下\n															定時解說為每週六、日10:00、14:30\n														\n												\n											\n				\n			\n		\n\n\n		\n				\n				\n				\n					\n			\n							\n					\n						\n		\n				\n				\n				\n				\n			\n		\n							\n							\n							\n					\n		\n							\n							\n							\n					\n		\n							\n							\n							\n					\n		\n							\n							\n							\n					\n		\n							\n							\n							\n					\n		\n							\n							\n							\n					\n		\n							\n							\n							\n					\n\n\n		\n				\n				\n				\n					\n			\n		\n				\n				\n				\n				\n					\n			\n							\n					\n						\n		\n				\n				\n				\n				\n			\n		\n		營業資訊	\n			\n				\n				\n				\n					\n							\n											\n													\n										開館時間：9:00-16:30(星期二至星期日開館)\n									\n								\n											\n\n												\n													\n										適合年齡｜全年齡\n											\n									\n								\n											\n													\n										有電梯\n									\n								\n											\n													\n										親子友善空間｜飲水機(有提供熱水)\n									\n								\n											\n													\n										親子遊戲空間︱影片播放區、互動體驗區、木育玩具
URL:http://54.64.38.96/event/%e5%85%a8%e9%bd%a1%e5%a4%aa%e4%bf%9d%e5%92%a9%e5%92%a9%e4%b8%8a%e6%a8%b9%e8%90%8c%e5%af%b5%e6%a8%82%e5%9c%92x%e5%92%a9%e5%92%a9%e5%90%83%e6%92%ad%e7%a7%80x%e6%a5%b5%e9%99%90%e5%a4%a7%e6%93%ba%e7%9b%aa/
LOCATION:咩咩上樹萌寵樂園\, 嘉義縣太保市故宮大道886號
CATEGORIES:4-動物生態,太保市
ATTACH;FMTTYPE=image/jpeg:http://54.64.38.96/wp-content/uploads/2024/06/咩咩上樹萌寵樂園-6.JPG-的副本.jpg
END:VEVENT
BEGIN:VEVENT
DTSTART;TZID=Asia/Taipei:20240624T090000
DTEND;TZID=Asia/Taipei:20261231T170000
DTSTAMP:20260421T023811
CREATED:20240605T033440Z
LAST-MODIFIED:20250508T103821Z
UID:5466-1719219600-1798736400@54.64.38.96
SUMMARY:【4歲以上】中埔｜餵食可愛小牛小馬｜隨到隨作｜需另購門票
DESCRIPTION:鰲鼓濕地生態展示館位於嘉義縣東石鄉，是認識鰲鼓濕地生態與候鳥資源的重要據點。館內透過多媒體互動裝置與地景展示，營造如繪本般的沉浸體驗，適合親子一同探索。館外緊鄰豐富濕地環境，全年可觀察多樣鳥類，尤其每年11月至翌年2月為最佳賞鳥季節。 ★免費解說服務&定時影片播放★館內設有豐富的鳥類生態展品與固定展場，結合互動設施，讓大小朋友輕鬆認識濕地鳥類的生活環境與生態特色。每日提供定時解說服務，每週六、日還有精彩的影片導覽，透過生動影片深入了解濕地生態，是全家同遊、親近自然的最佳選擇。 						\n				\n				\n				\n					\n			\n							\n					\n						\n		\n				\n				\n				\n				\n			\n		\n		收費方式	\n			\n				\n				\n				\n			\n\n\n	\n		\n			\n				\n					\n						每位\n						\n						\n							$0\n						\n					\n					\n					\n														\n															預約制\n															解說服務、團體影片播放需提前電話預約，需5人以上、20人以下\n															定時解說為每週六、日10:00、14:30\n														\n												\n											\n				\n			\n		\n\n\n		\n				\n				\n				\n					\n			\n							\n					\n						\n		\n				\n				\n				\n				\n			\n		\n							\n							\n							\n					\n		\n							\n							\n							\n					\n		\n							\n							\n							\n					\n		\n							\n							\n							\n					\n		\n							\n							\n							\n					\n		\n							\n							\n							\n					\n		\n							\n							\n							\n					\n\n\n		\n				\n				\n				\n					\n			\n		\n				\n				\n				\n				\n					\n			\n							\n					\n						\n		\n				\n				\n				\n				\n			\n		\n		營業資訊	\n			\n				\n				\n				\n					\n							\n											\n													\n										開館時間：9:00-16:30(星期二至星期日開館)\n									\n								\n											\n\n												\n													\n										適合年齡｜全年齡\n											\n									\n								\n											\n													\n										有電梯\n									\n								\n											\n													\n										親子友善空間｜飲水機(有提供熱水)\n									\n								\n											\n													\n										親子遊戲空間︱影片播放區、互動體驗區、木育玩具
URL:http://54.64.38.96/event/%e3%80%904%e6%ad%b2%e4%bb%a5%e4%b8%8a%e3%80%91%e4%b8%ad%e5%9f%94%ef%bd%9c%e9%a4%b5%e9%a3%9f%e5%8f%af%e6%84%9b%e5%b0%8f%e7%89%9b%e5%b0%8f%e9%a6%ac%ef%bd%9c%e5%85%8d%e9%a0%90%e7%b4%84%ef%bd%9c%e9%9c%80/
LOCATION:獨角仙休閒農場\, 嘉義縣中埔鄉石硦村15鄰45號
CATEGORIES:4-動物生態,中埔鄉
ATTACH;FMTTYPE=image/jpeg:http://54.64.38.96/wp-content/uploads/2025/05/獨角仙休閒農場2-scaled.jpg
END:VEVENT
END:VCALENDAR