BEGIN:VCALENDAR
VERSION:2.0
PRODID:-//嘉義縣親子旅 - ECPv6.3.7//NONSGML v1.0//EN
CALSCALE:GREGORIAN
METHOD:PUBLISH
X-WR-CALNAME:嘉義縣親子旅
X-ORIGINAL-URL:http://54.64.38.96
X-WR-CALDESC:嘉義縣親子旅的活動
REFRESH-INTERVAL;VALUE=DURATION:PT1H
X-Robots-Tag:noindex
X-PUBLISHED-TTL:PT1H
BEGIN:VTIMEZONE
TZID:Asia/Taipei
BEGIN:STANDARD
TZOFFSETFROM:+0800
TZOFFSETTO:+0800
TZNAME:CST
DTSTART:20240101T000000
END:STANDARD
END:VTIMEZONE
BEGIN:VEVENT
DTSTART;TZID=Asia/Taipei:20240624T090000
DTEND;TZID=Asia/Taipei:20261231T170000
DTSTAMP:20260421T031209
CREATED:20240605T031310Z
LAST-MODIFIED:20250514T014029Z
UID:5504-1719219600-1798736400@54.64.38.96
SUMMARY:【國小以上】竹崎｜製茶體驗｜7日預約｜至少3人
DESCRIPTION:~平凡樸實的山頭，飄起不平凡的心茶味~佇立在阿里山雲霧飄渺的群山中的鄒族特色茶莊，在山嵐間種植著茶樹，待採收時把關著一心二葉呈現度再藉由職人製茶師的製茶、烘焙工藝，完美勾勒出茶葉最初的清甜感。這份屬於阿里山這片山林的美好，茶莊希望能把分享給更多人，並把這份濃厚的鄒族文化精神隨著茶香和品牌飄過山頭傳達到每位客人的心中。 ★森林茶席饗宴★在山林間品嘗茶的風味 						\n				\n				\n				\n					\n			\n							\n					\n						\n		\n				\n				\n				\n				\n			\n		\n		收費方式	\n			\n				\n				\n				\n			\n\n\n	\n		\n			\n				\n					\n						茶席體驗\n						\n						\n							$2100/桌\n						\n					\n					\n					\n														\n															45分鐘\n															需家長陪同\n														\n												\n											\n				\n			\n		\n		\n			\n				\n					\n						預約規定\n						\n						\n							\n						\n					\n					\n					\n														\n															一桌最多可6人\n															1周前預約\n														\n												\n											\n				\n			\n		\n\n\n		\n				\n				\n				\n					\n			\n							\n					\n						\n		\n				\n				\n				\n				\n			\n		\n							\n							\n							\n					\n		\n							\n							\n							\n					\n		\n							\n							\n							\n					\n		\n							\n							\n							\n					\n\n\n		\n				\n				\n				\n					\n			\n		\n				\n				\n		\n					\n				\n				\n					\n			\n							\n					\n						\n		\n				\n				\n				\n				\n			\n		\n		營業資訊	\n			\n				\n				\n				\n					\n							\n											\n													\n										平日營業時間：08:00 - 17:00\n									\n								\n											\n													\n										假日營業時間：08:00 - 17:00 (週日公休)\n									\n								\n											\n\n												\n													\n										適合年齡｜全年齡
URL:http://54.64.38.96/event/%e3%80%90%e5%9c%8b%e5%b0%8f%e4%bb%a5%e4%b8%8a%e3%80%91%e7%ab%b9%e5%b4%8e%ef%bd%9c%e8%a3%bd%e8%8c%b6%e9%ab%94%e9%a9%97%ef%bd%9c%e9%a0%90%e7%b4%84%e5%88%b6%ef%bd%9c%e8%87%b3%e5%b0%914%e4%ba%ba/
LOCATION:出水製茶所\, 嘉義縣竹崎鄉金獅村出水坑10號
CATEGORIES:5-農事體驗,竹崎鄉
ATTACH;FMTTYPE=image/jpeg:http://54.64.38.96/wp-content/uploads/2024/06/竹崎。出水製茶所。體驗-4.jpg
END:VEVENT
BEGIN:VEVENT
DTSTART;TZID=Asia/Taipei:20240624T090000
DTEND;TZID=Asia/Taipei:20261231T170000
DTSTAMP:20260421T031209
CREATED:20240605T025646Z
LAST-MODIFIED:20250514T014037Z
UID:5503-1719219600-1798736400@54.64.38.96
SUMMARY:【國小以上】竹崎｜茶園體驗｜2日前預約｜至少3人
DESCRIPTION:~平凡樸實的山頭，飄起不平凡的心茶味~佇立在阿里山雲霧飄渺的群山中的鄒族特色茶莊，在山嵐間種植著茶樹，待採收時把關著一心二葉呈現度再藉由職人製茶師的製茶、烘焙工藝，完美勾勒出茶葉最初的清甜感。這份屬於阿里山這片山林的美好，茶莊希望能把分享給更多人，並把這份濃厚的鄒族文化精神隨著茶香和品牌飄過山頭傳達到每位客人的心中。 ★森林茶席饗宴★在山林間品嘗茶的風味 						\n				\n				\n				\n					\n			\n							\n					\n						\n		\n				\n				\n				\n				\n			\n		\n		收費方式	\n			\n				\n				\n				\n			\n\n\n	\n		\n			\n				\n					\n						茶席體驗\n						\n						\n							$2100/桌\n						\n					\n					\n					\n														\n															45分鐘\n															需家長陪同\n														\n												\n											\n				\n			\n		\n		\n			\n				\n					\n						預約規定\n						\n						\n							\n						\n					\n					\n					\n														\n															一桌最多可6人\n															1周前預約\n														\n												\n											\n				\n			\n		\n\n\n		\n				\n				\n				\n					\n			\n							\n					\n						\n		\n				\n				\n				\n				\n			\n		\n							\n							\n							\n					\n		\n							\n							\n							\n					\n		\n							\n							\n							\n					\n		\n							\n							\n							\n					\n\n\n		\n				\n				\n				\n					\n			\n		\n				\n				\n		\n					\n				\n				\n					\n			\n							\n					\n						\n		\n				\n				\n				\n				\n			\n		\n		營業資訊	\n			\n				\n				\n				\n					\n							\n											\n													\n										平日營業時間：08:00 - 17:00\n									\n								\n											\n													\n										假日營業時間：08:00 - 17:00 (週日公休)\n									\n								\n											\n\n												\n													\n										適合年齡｜全年齡
URL:http://54.64.38.96/event/%e3%80%90%e5%9c%8b%e5%b0%8f%e4%bb%a5%e4%b8%8a%e3%80%91%e7%ab%b9%e5%b4%8e%ef%bd%9c%e8%8c%b6%e5%9c%92%e9%ab%94%e9%a9%97%ef%bd%9c%e9%a0%90%e7%b4%84%e5%88%b6%ef%bd%9c%e8%87%b3%e5%b0%914%e4%ba%ba/
LOCATION:出水製茶所\, 嘉義縣竹崎鄉金獅村出水坑10號
CATEGORIES:5-農事體驗,竹崎鄉
ATTACH;FMTTYPE=image/jpeg:http://54.64.38.96/wp-content/uploads/2024/06/竹崎。出水製茶所。茶園3.jpg
END:VEVENT
BEGIN:VEVENT
DTSTART;TZID=Asia/Taipei:20240624T080000
DTEND;TZID=Asia/Taipei:20261231T170000
DTSTAMP:20260421T031209
CREATED:20240612T093437Z
LAST-MODIFIED:20250909T015743Z
UID:6377-1719216000-1798736400@54.64.38.96
SUMMARY:【國小以上】阿里山｜森林茶席饗宴｜7日前預約｜2人成行
DESCRIPTION:~平凡樸實的山頭，飄起不平凡的心茶味~佇立在阿里山雲霧飄渺的群山中的鄒族特色茶莊，在山嵐間種植著茶樹，待採收時把關著一心二葉呈現度再藉由職人製茶師的製茶、烘焙工藝，完美勾勒出茶葉最初的清甜感。這份屬於阿里山這片山林的美好，茶莊希望能把分享給更多人，並把這份濃厚的鄒族文化精神隨著茶香和品牌飄過山頭傳達到每位客人的心中。 ★森林茶席饗宴★在山林間品嘗茶的風味 						\n				\n				\n				\n					\n			\n							\n					\n						\n		\n				\n				\n				\n				\n			\n		\n		收費方式	\n			\n				\n				\n				\n			\n\n\n	\n		\n			\n				\n					\n						茶席體驗\n						\n						\n							$2100/桌\n						\n					\n					\n					\n														\n															45分鐘\n															需家長陪同\n														\n												\n											\n				\n			\n		\n		\n			\n				\n					\n						預約規定\n						\n						\n							\n						\n					\n					\n					\n														\n															一桌最多可6人\n															1周前預約\n														\n												\n											\n				\n			\n		\n\n\n		\n				\n				\n				\n					\n			\n							\n					\n						\n		\n				\n				\n				\n				\n			\n		\n							\n							\n							\n					\n		\n							\n							\n							\n					\n		\n							\n							\n							\n					\n		\n							\n							\n							\n					\n\n\n		\n				\n				\n				\n					\n			\n		\n				\n				\n		\n					\n				\n				\n					\n			\n							\n					\n						\n		\n				\n				\n				\n				\n			\n		\n		營業資訊	\n			\n				\n				\n				\n					\n							\n											\n													\n										平日營業時間：08:00 - 17:00\n									\n								\n											\n													\n										假日營業時間：08:00 - 17:00 (週日公休)\n									\n								\n											\n\n												\n													\n										適合年齡｜全年齡
URL:http://54.64.38.96/event/%e5%9c%8b%e5%b0%8f%e4%bb%a5%e4%b8%8a%e9%98%bf%e9%87%8c%e5%b1%b1%e6%a3%ae%e6%9e%97%e8%8c%b6%e5%b8%ad%e9%a5%97%e5%ae%b4%e9%a0%90%e7%b4%84%e5%88%b6%e8%87%b3%e5%b0%916%e4%ba%ba/
LOCATION:FKUO山芙蓉茶業\, 嘉義縣阿里山鄉樂野村9鄰280號
CATEGORIES:9-部落體驗,阿里山鄉
ATTACH;FMTTYPE=image/jpeg:http://54.64.38.96/wp-content/uploads/2024/06/阿里山。FKUO山芙蓉茶業。商品-1.jpg
END:VEVENT
BEGIN:VEVENT
DTSTART;TZID=Asia/Taipei:20240624T080000
DTEND;TZID=Asia/Taipei:20261231T170000
DTSTAMP:20260421T031209
CREATED:20240606T023739Z
LAST-MODIFIED:20250909T020029Z
UID:6375-1719216000-1798736400@54.64.38.96
SUMMARY:【國小以上】阿里山｜湯爺爺迷糊步道導覽 ｜7日前預約｜2人成行
DESCRIPTION:~平凡樸實的山頭，飄起不平凡的心茶味~佇立在阿里山雲霧飄渺的群山中的鄒族特色茶莊，在山嵐間種植著茶樹，待採收時把關著一心二葉呈現度再藉由職人製茶師的製茶、烘焙工藝，完美勾勒出茶葉最初的清甜感。這份屬於阿里山這片山林的美好，茶莊希望能把分享給更多人，並把這份濃厚的鄒族文化精神隨著茶香和品牌飄過山頭傳達到每位客人的心中。 ★森林茶席饗宴★在山林間品嘗茶的風味 						\n				\n				\n				\n					\n			\n							\n					\n						\n		\n				\n				\n				\n				\n			\n		\n		收費方式	\n			\n				\n				\n				\n			\n\n\n	\n		\n			\n				\n					\n						茶席體驗\n						\n						\n							$2100/桌\n						\n					\n					\n					\n														\n															45分鐘\n															需家長陪同\n														\n												\n											\n				\n			\n		\n		\n			\n				\n					\n						預約規定\n						\n						\n							\n						\n					\n					\n					\n														\n															一桌最多可6人\n															1周前預約\n														\n												\n											\n				\n			\n		\n\n\n		\n				\n				\n				\n					\n			\n							\n					\n						\n		\n				\n				\n				\n				\n			\n		\n							\n							\n							\n					\n		\n							\n							\n							\n					\n		\n							\n							\n							\n					\n		\n							\n							\n							\n					\n\n\n		\n				\n				\n				\n					\n			\n		\n				\n				\n		\n					\n				\n				\n					\n			\n							\n					\n						\n		\n				\n				\n				\n				\n			\n		\n		營業資訊	\n			\n				\n				\n				\n					\n							\n											\n													\n										平日營業時間：08:00 - 17:00\n									\n								\n											\n													\n										假日營業時間：08:00 - 17:00 (週日公休)\n									\n								\n											\n\n												\n													\n										適合年齡｜全年齡
URL:http://54.64.38.96/event/%e5%9c%8b%e5%b0%8f%e4%bb%a5%e4%b8%8a%e9%98%bf%e9%87%8c%e5%b1%b1%e6%b9%af%e7%88%ba%e7%88%ba%e8%bf%b7%e7%b3%8a%e6%ad%a5%e9%81%93%e5%b0%8e%e8%a6%bd-%e9%a0%90%e7%b4%84%e5%88%b6%e8%87%b3%e5%b0%912%e4%ba%ba/
LOCATION:FKUO山芙蓉茶業\, 嘉義縣阿里山鄉樂野村9鄰280號
CATEGORIES:9-部落體驗,阿里山鄉
ATTACH;FMTTYPE=image/jpeg:http://54.64.38.96/wp-content/uploads/2024/06/迷糊步道-scaled.jpg
END:VEVENT
END:VCALENDAR