BEGIN:VCALENDAR
VERSION:2.0
PRODID:-//嘉義縣親子旅 - ECPv6.3.7//NONSGML v1.0//EN
CALSCALE:GREGORIAN
METHOD:PUBLISH
X-ORIGINAL-URL:http://54.64.38.96
X-WR-CALDESC:嘉義縣親子旅的活動
REFRESH-INTERVAL;VALUE=DURATION:PT1H
X-Robots-Tag:noindex
X-PUBLISHED-TTL:PT1H
BEGIN:VTIMEZONE
TZID:Asia/Taipei
BEGIN:STANDARD
TZOFFSETFROM:+0800
TZOFFSETTO:+0800
TZNAME:CST
DTSTART:20240101T000000
END:STANDARD
END:VTIMEZONE
BEGIN:VEVENT
DTSTART;VALUE=DATE:20240624
DTEND;VALUE=DATE:20270101
DTSTAMP:20260421T003141
CREATED:20240514T081931Z
LAST-MODIFIED:20241025T071816Z
UID:3224-1719187200-1798736400@54.64.38.96
SUMMARY:【小三以上】布袋｜DIY煮鹽｜14天前預約｜20人成團｜入園門票另收150元
DESCRIPTION:來此尋找鹽田能量的四精靈：海水、土地、季風和陽光，體驗認識曬鹽的深度文化，耙鹽、觀察鹽巴的結晶、喝鹽工茶、泡腳、賞夕陽等，將布袋鹽田的故事流傳下去。 ★DIY煮鹽★透過體驗學習，觀察鹵水的「蒸發、濃縮與結晶」，「自煮」發現漂浮表層薄鹽花與底層細緻結晶。煮出來的鹽裝進星星罐，自製獨一無二紀念品帶回家！ 						\n				\n				\n				\n					\n			\n							\n					\n						\n		\n				\n				\n				\n				\n			\n		\n		收費方式	\n			\n				\n				\n				\n			\n\n\n	\n		\n			\n				\n					\n						注意事項\n						\n						\n							預約規定\n						\n					\n					\n					\n														\n															請提前至少14日完成預約，填寫線上表單https://taiwansalt.com/%e5%9c%98%e9%ab%94%e9%a0%90%e7%b4%84/\n															20人成團，成團費3000元/場，第21人起，每多1人收費150元/人\n															鹽田導覽為預約必選選項，DIY課程為預約選填選項(有導覽才能參加DIY)\n															歡迎揪團，來電洽詢05-3478817\n														\n												\n											\n				\n			\n		\n\n\n		\n				\n				\n				\n					\n			\n							\n					\n						\n		\n				\n				\n				\n				\n			\n		\n							\n							\n							\n					\n		\n							\n							\n							\n					\n		\n							\n							\n							\n					\n		\n							\n							\n							\n					\n\n\n		\n				\n		\n					\n				\n				\n					\n			\n							\n					\n						\n		\n				\n				\n				\n				\n			\n		\n		營業資訊	\n			\n				\n				\n				\n					\n							\n											\n													\n										平日營業時間：08:00-12:00，13:30-17:30\n									\n								\n											\n\n												\n													\n										適合年齡｜全年齡\n											\n									\n						\n				\n				\n				\n				\n					\n			\n							\n					\n						\n		\n				\n				\n				\n				\n			\n		\n		門票資訊	\n			\n				\n				\n				\n			\n\n\n	\n		\n			\n				\n					\n						優惠進場\n						\n						\n							免費\n						\n					\n					\n					\n														\n															3歲以下幼童\n														\n												\n											\n				\n			\n		\n		\n			\n				\n					\n						一般票\n						\n						\n							$150
URL:http://54.64.38.96/event/%e3%80%90%e5%9c%8b%e5%b0%8f%e4%b8%89%e5%b9%b4%e7%b4%9a%e4%bb%a5%e4%b8%8a%e3%80%91%e5%b8%83%e8%a2%8b%ef%bd%9cdiy%e7%85%ae%e9%b9%bd%ef%bd%9c14%e5%a4%a9%e5%89%8d%e9%a0%90%e7%b4%84%ef%bd%9c20%e4%ba%ba/
LOCATION:洲南鹽場\, 嘉義縣布袋鎮龍江里新厝仔402號
CATEGORIES:3-科學益智,布袋鎮
ATTACH;FMTTYPE=image/jpeg:http://54.64.38.96/wp-content/uploads/2024/05/DIY煮鹽-1晶彩瓶安-彩鹽罐.jpg
END:VEVENT
END:VCALENDAR