BEGIN:VCALENDAR
VERSION:2.0
PRODID:-//嘉義縣親子旅 - ECPv6.3.7//NONSGML v1.0//EN
CALSCALE:GREGORIAN
METHOD:PUBLISH
X-ORIGINAL-URL:http://54.64.38.96
X-WR-CALDESC:嘉義縣親子旅的活動
REFRESH-INTERVAL;VALUE=DURATION:PT1H
X-Robots-Tag:noindex
X-PUBLISHED-TTL:PT1H
BEGIN:VTIMEZONE
TZID:Asia/Taipei
BEGIN:STANDARD
TZOFFSETFROM:+0800
TZOFFSETTO:+0800
TZNAME:CST
DTSTART:20240101T000000
END:STANDARD
END:VTIMEZONE
BEGIN:VEVENT
DTSTART;TZID=Asia/Taipei:20240624T090000
DTEND;TZID=Asia/Taipei:20261231T170000
DTSTAMP:20260421T024406
CREATED:20240605T025131Z
LAST-MODIFIED:20250912T061954Z
UID:5459-1719219600-1798736400@54.64.38.96
SUMMARY:【國中以上】番路｜部落射箭體驗｜現場報名購票
DESCRIPTION:Q版小筆雕刻						\n				\n				\n				\n					\n			\n							\n					\n						\n		\n				\n				\n				\n				\n			\n		\n		收費方式	\n			\n				\n				\n				\n			\n\n\n	\n		\n			\n				\n					\n						木製品雕刻\n						\n						\n							$100\n						\n					\n					\n					\n														\n															30分鐘\n															家長需陪同\n														\n												\n											\n				\n			\n		\n\n\n		\n				\n				\n				\n					\n			\n							\n					\n						\n		\n				\n				\n				\n				\n			\n		\n							\n							\n							\n					\n		\n							\n							\n							\n					\n\n\n		\n				\n				\n				\n					\n			\n		\n				\n				\n				\n				\n					\n			\n							\n					\n						\n		\n				\n				\n				\n				\n			\n		\n		營業資訊	\n			\n				\n				\n				\n					\n							\n											\n													\n										平日營業時間：08:00 - 18:00 \n									\n								\n											\n													\n										假日營業時間：08:00 - 18:00 (週日公休)\n									\n								\n											\n\n												\n													\n										適合年齡｜全年齡
URL:http://54.64.38.96/event/%e5%9c%8b%e4%b8%ad%e4%bb%a5%e4%b8%8a%e7%95%aa%e8%b7%af%e9%83%a8%e8%90%bd%e5%b0%84%e7%ae%ad%e9%ab%94%e9%a9%97%e7%8f%be%e5%a0%b4%e5%a0%b1%e5%90%8d%e8%b3%bc%e7%a5%a8/
LOCATION:鄒族逐鹿文創園區\, 嘉義縣番路鄉觸口村梅花一路1-1號
CATEGORIES:9-部落體驗,番路鄉
ATTACH;FMTTYPE=image/jpeg:http://54.64.38.96/wp-content/uploads/2024/06/逐鹿-射箭-2-scaled.jpg
END:VEVENT
BEGIN:VEVENT
DTSTART;TZID=Asia/Taipei:20240624T080000
DTEND;TZID=Asia/Taipei:20261231T170000
DTSTAMP:20260421T024407
CREATED:20240612T024158Z
LAST-MODIFIED:20240621T035737Z
UID:5490-1719216000-1798736400@54.64.38.96
SUMMARY:【國中以上】竹崎｜木製品雕刻｜預約制
DESCRIPTION:Q版小筆雕刻						\n				\n				\n				\n					\n			\n							\n					\n						\n		\n				\n				\n				\n				\n			\n		\n		收費方式	\n			\n				\n				\n				\n			\n\n\n	\n		\n			\n				\n					\n						木製品雕刻\n						\n						\n							$100\n						\n					\n					\n					\n														\n															30分鐘\n															家長需陪同\n														\n												\n											\n				\n			\n		\n\n\n		\n				\n				\n				\n					\n			\n							\n					\n						\n		\n				\n				\n				\n				\n			\n		\n							\n							\n							\n					\n		\n							\n							\n							\n					\n\n\n		\n				\n				\n				\n					\n			\n		\n				\n				\n				\n				\n					\n			\n							\n					\n						\n		\n				\n				\n				\n				\n			\n		\n		營業資訊	\n			\n				\n				\n				\n					\n							\n											\n													\n										平日營業時間：08:00 - 18:00 \n									\n								\n											\n													\n										假日營業時間：08:00 - 18:00 (週日公休)\n									\n								\n											\n\n												\n													\n										適合年齡｜全年齡
URL:http://54.64.38.96/event/%e7%bc%ba%e5%9c%96_%e5%9c%8b%e4%b8%ad%e4%bb%a5%e4%b8%8a%e7%ab%b9%e5%b4%8e%e6%9c%a8%e8%a3%bd%e5%93%81%e9%9b%95%e5%88%bb/
LOCATION:阿壽手作木工坊\, 嘉義縣竹崎鄉鹿山路62號
CATEGORIES:1-藝術創作,竹崎鄉
ATTACH;FMTTYPE=image/jpeg:http://54.64.38.96/wp-content/uploads/2024/06/竹崎。阿壽手作木工坊。成品-30.jpg
END:VEVENT
END:VCALENDAR