BEGIN:VCALENDAR
VERSION:2.0
PRODID:-//嘉義縣親子旅 - ECPv6.3.7//NONSGML v1.0//EN
CALSCALE:GREGORIAN
METHOD:PUBLISH
X-ORIGINAL-URL:http://54.64.38.96
X-WR-CALDESC:嘉義縣親子旅的活動
REFRESH-INTERVAL;VALUE=DURATION:PT1H
X-Robots-Tag:noindex
X-PUBLISHED-TTL:PT1H
BEGIN:VTIMEZONE
TZID:Asia/Taipei
BEGIN:STANDARD
TZOFFSETFROM:+0800
TZOFFSETTO:+0800
TZNAME:CST
DTSTART:20240101T000000
END:STANDARD
END:VTIMEZONE
BEGIN:VEVENT
DTSTART;TZID=Asia/Taipei:20240624T090000
DTEND;TZID=Asia/Taipei:20261231T170000
DTSTAMP:20260420T045537
CREATED:20240604T094720Z
LAST-MODIFIED:20241121T033935Z
UID:5451-1719219600-1798736400@54.64.38.96
SUMMARY:【全齡】大埔｜搭乘遊艇體驗x勇闖山豬島｜預約購票
DESCRIPTION:厭倦了人擠人的風景區嗎？嚮往湖濱散記與戀戀山城中的寧靜悠閒嗎？ 《曾文水庫育樂有限公司》歡迎各位旅客來乘坐觀光遊艇，每一班遊船都有專業的解說員為大家介紹水庫生態與風景，讓更多人能與我們一樣，在工作之餘可以坐在船上飽覽水天一色的曾水煙波，讓都市的孩子們有機會看到未破壞的山林，天空黑鳶盤旋，荒野山豬覓食，樹上猴群嬉戲，讓所有的旅客體會到不一樣的水鄉山城之美。 曾文水庫有得天獨厚的風光，不管是生態旅遊玩家、人文歷史采風、特色美食之旅，我們都能提供客製化的行程安排。 春天小山豬限定，夏天粉萼花季，秋天黑鳶季，冬天白雪木季 ★搭乘遊艇體驗★搭乘遊艇飽覽曾文水庫水上風光及生態導覽 						\n				\n				\n				\n					\n			\n							\n					\n						\n		\n				\n				\n				\n				\n			\n		\n		收費方式	\n			\n				\n				\n				\n			\n\n\n	\n		\n			\n				\n					\n						方案一\n						\n						\n							$300~350\n						\n					\n					\n					\n														\n															假日固定航班 \n															曾文水庫乘船處\n															觀景樓登船碼頭 → 山豬島 → 飛鷹峽谷 ( 視水位狀況 ) → 觀景樓登船碼頭 ( 航程約 1 小時 )\n															每週六、日及國定假日 早上 10:00、下午 15:00 準時開航 ( 其該航班額滿，會加開其他時段航班，請留意 )\n															船票價 : 300 元 ( 平日 ) / 350 元 ( 假日 )\n															家長需陪同\n														\n												\n											\n				\n			\n		\n		\n			\n				\n					\n						方案二\n						\n						\n							$300~350\n						\n					\n					\n					\n														\n															只開放團體預訂，20 位成人以上即可預訂 \n															嘉義大埔乘船處\n															湖濱公園碼頭 → 山豬島 → 飛鷹峽谷 ( 視水位狀況 ) → 湖濱公園碼頭 ( 航程約 1 小時 )\n															船票價 : 300 元 ( 平日 ) / 350 元 ( 假日 )\n															家長需陪同\n														\n												\n											\n				\n			\n		\n		\n			\n				\n					\n						方案三\n						\n						\n							$600~700\n						\n					\n					\n					\n														\n															每日固定半日遊航班 \n															曾文水庫乘船處\n															觀景樓登船碼頭 → 山豬島 → 飛鷹峽谷 ( 視水位狀況 ) → 釣魚平台 ( 約 1 小時 ) → 觀景樓登船碼頭 ( 航程約 2 小時 )\n															每日半日遊航班： 下午 13:30 準時開航 ( 其該航班額滿，會加開其他時段航班，請留意 )\n															半日遊行程 遊湖船票價 ： 600 元 ( 平日 ) / 700 元 ( 假日 )\n															家長需陪同\n														\n												\n											\n				\n			\n		\n\n\n		\n				\n				\n				\n					\n			\n							\n					\n						\n		\n				\n				\n				\n				\n					\n					\n				\n				\n				\n				\n			\n		\n		立即訂購	\n			\n				\n				\n				\n			\n\n\n	\n		\n			\n				\n					\n						KKDay優惠方案【嘉義好玩卡】\n						\n						\n							$349起\n						\n					\n					\n					\n														\n															搭船遊覽臺灣最大曾文水庫欣賞水鄉山城之美\n															老鷹喜愛在此峽谷築巢，幸運的話還可以看到老鷹捕食秀\n															欣賞各種稀有鳥類、動物在兩旁山林出沒，像極了遺世獨立的仙境\n															即刻點擊，加購台灣高鐵車票一起結帳，車票最低 7 折起！\n														\n												\n													選擇方案\n											\n				\n			\n		\n\n\n		\n				\n				\n				\n					\n			\n							\n					\n						\n		\n				\n				\n				\n				\n			\n		\n							\n							\n							\n					\n		\n							\n							\n							\n					\n		\n							\n							\n							\n					\n		\n							\n							\n							\n					\n		\n							\n							\n							\n					\n		\n							\n							\n							\n					\n		\n							\n							\n							\n					\n		\n							\n							\n							\n					\n		\n							\n							\n							\n					\n		\n							\n							\n							\n					\n		\n							\n							\n							\n					\n		\n							\n							\n							\n					\n		\n							\n							\n							\n					\n\n\n		\n				\n				\n				\n					\n			\n		\n				\n				\n		\n					\n				\n				\n					\n			\n							\n					\n						\n		\n				\n				\n				\n				\n			\n		\n		營業資訊	\n			\n				\n				\n				\n					\n							\n											\n													\n										平日營業時間：09:00 - 17:00 \n									\n								\n											\n													\n										假日營業時間：08:00 - 17:00\n									\n								\n											\n\n												\n													\n										適合年齡｜全年齡\n											\n									\n								\n											\n													\n										大型車$50、小型車$40、機車$20\n									\n								\n											\n													\n										無障礙坡道\n									\n								\n											\n													\n										親子友善空間｜集哺乳室、尿布台、親子廁所-大小馬桶、飲水機（有提供熱水）、兒童座椅、兒童餐具\n									\n						\n				\n				\n				\n				\n					\n			\n							\n					\n						\n		\n				\n				\n				\n				\n			\n		\n		門票資訊	\n			\n				\n				\n				\n			\n\n\n	\n		\n			\n				\n					\n						一般票\n						\n						\n							$100\n						\n					\n					\n					\n														\n															國中以上\n														\n												\n											\n				\n			\n		\n		\n			\n				\n					\n						半票\n						\n						\n							$50\n						\n					\n					\n					\n														\n															軍警\n															65歲以上長者\n															國小兒童\n														\n												\n											\n				\n			\n		\n		\n			\n				\n					\n						優惠票\n						\n						\n							$25\n						\n					\n					\n					\n														\n															東山區居民\n														\n												\n											\n				\n			\n		\n		\n			\n				\n					\n						團體票\n						\n						\n							8折\n						\n					\n					\n					\n														\n															30位以上(含30位)八折優惠\n														\n												\n											\n				\n			\n		\n		\n			\n				\n					\n						免費\n						\n						\n							$0\n						\n					\n					\n					\n														\n															幼稚園(含)以下兒童\n															身心障礙者本人及陪同者1人\n															持有榮譽志工證者\n															嘉義縣大埔鄉、阿里山鄉、臺南市楠西區、玉井區、南化區、左鎮區及東山區南勢里之居民(身分證戶籍需在上列地區)\n															保險(門票已含保險)
URL:http://54.64.38.96/event/%e5%85%a8%e9%bd%a1%e5%a4%a7%e5%9f%94%e6%90%ad%e4%b9%98%e9%81%8a%e8%89%87%e9%ab%94%e9%a9%97x%e5%8b%87%e9%97%96%e5%b1%b1%e8%b1%ac%e5%b3%b6%e9%a0%90%e7%b4%84%e8%b3%bc%e7%a5%a8/
LOCATION:曾文水庫育樂有限公司\, 嘉義縣大埔鄉和平村雙溪53號1樓
CATEGORIES:2-戶外運動,大埔鄉
ATTACH;FMTTYPE=image/jpeg:http://54.64.38.96/wp-content/uploads/2024/06/曾文水庫IMG_4327-修.jpg
END:VEVENT
END:VCALENDAR