BEGIN:VCALENDAR
VERSION:2.0
PRODID:-//嘉義縣親子旅 - ECPv6.3.7//NONSGML v1.0//EN
CALSCALE:GREGORIAN
METHOD:PUBLISH
X-WR-CALNAME:嘉義縣親子旅
X-ORIGINAL-URL:http://54.64.38.96
X-WR-CALDESC:嘉義縣親子旅的活動
REFRESH-INTERVAL;VALUE=DURATION:PT1H
X-Robots-Tag:noindex
X-PUBLISHED-TTL:PT1H
BEGIN:VTIMEZONE
TZID:Asia/Taipei
BEGIN:STANDARD
TZOFFSETFROM:+0800
TZOFFSETTO:+0800
TZNAME:CST
DTSTART:20240101T000000
END:STANDARD
END:VTIMEZONE
BEGIN:VEVENT
DTSTART;TZID=Asia/Taipei:20240624T090000
DTEND;TZID=Asia/Taipei:20261231T170000
DTSTAMP:20260421T002151
CREATED:20240604T095638Z
LAST-MODIFIED:20250513T043811Z
UID:5452-1719219600-1798736400@54.64.38.96
SUMMARY:【4歲以上】大林｜銅管樂器體驗｜7日前預約
DESCRIPTION:好美農漁產業-小漁村裡的創生基地，自詡是「笑容的收集者」。努力透過深度的體驗遊程讓到訪的嘉賓感受好美里在人、文、地、產、景的美好；更用心開發文蛤相關的伴手禮，祈願讓好美里有朝一日能成為蛤蜊之鄉。 ★醬醃哈嬤DIYx台灣古早味★自己動手製作甘甜好吃的臺灣古早味，當然要來學，學一次保證終身受用，回味無窮。成品帶回家還可以和家人朋友一起享用，樂趣多多。 						\n				\n				\n				\n					\n			\n							\n					\n						\n		\n				\n				\n				\n				\n			\n		\n		收費方式	\n			\n				\n				\n				\n			\n\n\n	\n		\n			\n				\n					\n						每位\n						\n						\n							$300\n						\n					\n					\n					\n														\n															40分鐘\n															需要家長陪同\n														\n												\n											\n				\n			\n		\n\n\n		\n				\n				\n				\n					\n			\n							\n					\n						\n		\n				\n				\n				\n				\n					\n					\n				\n				\n				\n				\n					\n			\n							\n					\n						\n		\n				\n				\n				\n				\n			\n		\n							\n							\n							\n					\n		\n							\n							\n							\n					\n		\n							\n							\n							\n					\n\n\n		\n				\n				\n				\n					\n			\n		\n				\n				\n		\n					\n				\n				\n					\n			\n							\n					\n						\n		\n				\n				\n				\n				\n			\n		\n		營業資訊	\n			\n				\n				\n				\n					\n							\n											\n													\n										平日營業時間：10:00-18:00(週二休)\n									\n								\n											\n													\n										假日營業時間：10:00-18:00\n									\n								\n											\n\n												\n													\n										適合年齡｜全年齡\n											\n									\n								\n											\n													\n										親子友善空間｜親子廁所、尿布台、哺集乳室
URL:http://54.64.38.96/event/4%e6%ad%b2%e4%bb%a5%e4%b8%8a%e5%a4%a7%e6%9e%97%e9%8a%85%e7%ae%a1%e6%a8%82%e5%99%a8%e9%ab%94%e9%a9%97%e9%a0%90%e7%b4%84%e5%88%b6/
LOCATION:卡羅爾銅管樂器觀光工廠\, 嘉義縣大林鎮大埔美園區二十路3號
CATEGORIES:7-五感體驗,大林鎮
ATTACH;FMTTYPE=image/jpeg:http://54.64.38.96/wp-content/uploads/2024/06/大林。卡羅爾銅管樂器觀光工廠。體驗3.jpg
END:VEVENT
BEGIN:VEVENT
DTSTART;TZID=Asia/Taipei:20240624T083000
DTEND;TZID=Asia/Taipei:20261231T170000
DTSTAMP:20260421T002151
CREATED:20240520T062236Z
LAST-MODIFIED:20250514T044320Z
UID:4179-1719217800-1798736400@54.64.38.96
SUMMARY:【4歲以上】鹿草｜手作大餅體驗｜2周前預約｜3人以上
DESCRIPTION:好美農漁產業-小漁村裡的創生基地，自詡是「笑容的收集者」。努力透過深度的體驗遊程讓到訪的嘉賓感受好美里在人、文、地、產、景的美好；更用心開發文蛤相關的伴手禮，祈願讓好美里有朝一日能成為蛤蜊之鄉。 ★醬醃哈嬤DIYx台灣古早味★自己動手製作甘甜好吃的臺灣古早味，當然要來學，學一次保證終身受用，回味無窮。成品帶回家還可以和家人朋友一起享用，樂趣多多。 						\n				\n				\n				\n					\n			\n							\n					\n						\n		\n				\n				\n				\n				\n			\n		\n		收費方式	\n			\n				\n				\n				\n			\n\n\n	\n		\n			\n				\n					\n						每位\n						\n						\n							$300\n						\n					\n					\n					\n														\n															40分鐘\n															需要家長陪同\n														\n												\n											\n				\n			\n		\n\n\n		\n				\n				\n				\n					\n			\n							\n					\n						\n		\n				\n				\n				\n				\n					\n					\n				\n				\n				\n				\n					\n			\n							\n					\n						\n		\n				\n				\n				\n				\n			\n		\n							\n							\n							\n					\n		\n							\n							\n							\n					\n		\n							\n							\n							\n					\n\n\n		\n				\n				\n				\n					\n			\n		\n				\n				\n		\n					\n				\n				\n					\n			\n							\n					\n						\n		\n				\n				\n				\n				\n			\n		\n		營業資訊	\n			\n				\n				\n				\n					\n							\n											\n													\n										平日營業時間：10:00-18:00(週二休)\n									\n								\n											\n													\n										假日營業時間：10:00-18:00\n									\n								\n											\n\n												\n													\n										適合年齡｜全年齡\n											\n									\n								\n											\n													\n										親子友善空間｜親子廁所、尿布台、哺集乳室
URL:http://54.64.38.96/event/4%e6%ad%b2%e4%bb%a5%e4%b8%8a%e9%b9%bf%e8%8d%89%e6%89%8b%e4%bd%9c%e5%a4%a7%e9%a4%85%e9%ab%94%e9%a9%972%e5%91%a8%e5%89%8d%e9%a0%90%e7%b4%84/
LOCATION:順發禮餅舖\, 嘉義縣鹿草鄉後堀村51號
CATEGORIES:8-親子廚藝,鹿草鄉
ATTACH;FMTTYPE=image/jpeg:http://54.64.38.96/wp-content/uploads/2024/05/順發餅舖4.jpg
END:VEVENT
END:VCALENDAR